BEGIN:VCALENDAR
VERSION:2.0
PRODID:-//eventon.com NONSGML v1.0//EN
CALSCALE:GREGORIAN
METHOD:PUBLISH
BEGIN:VEVENT
UID:69e73c6ee3843
DTSTAMP:20260421T085926Z
DTSTART:20250528T070000Z
DTEND:20250528T110000Z
LOCATION:Online-Event Online
SUMMARY:Grundlagen Seminar Struktureffizienz- und Prozessoptimierung 28.05.25
DESCRIPTION:Jeder kennt es\,  keiner mag: Der ganz normale Wahnsinn im Arbe
 itsalltag. In diesem Grundlagen Seminar zeigt Ihnen Bernd Ruffing\,  wie Si
 e sich und Ihrem Team ein ruhiges produktives Arbeiten ermöglichen. Für U
 nternehmer &amp; Führungskräfte\,  die endlich in Ihren Arbeitsbereichen 
 aufräumen und für struktureffizientes Arbeiten sorgen wollen. Mehr Inform
 ationen zu dem[..]\nhttps://www.prozesspunktnull.de/events/grundlagen-semin
 ar-struktureffizienz-und-prozessoptimierung-28-05-25-copy/
URL:https://www.prozesspunktnull.de/events/grundlagen-seminar-struktureffizienz-und-prozessoptimierung-28-05-25-copy/
END:VEVENT
END:VCALENDAR